BEGIN:VCALENDAR
PRODID:-//eluceo/ical//2.0/EN
VERSION:2.0
CALSCALE:GREGORIAN
BEGIN:VEVENT
UID:5b24f8c3a7c32963936a07cd8e677119
DTSTAMP:20260424T084650Z
SUMMARY:Interclub Apéro
DESCRIPTION:
URL:https://rcaarau-alpenzeiger.ch/it/agenda/show/104447
DTSTART;TZID=Europe/Zurich:20191107T183000
DTEND;TZID=Europe/Zurich:20191107T183000
LOCATION:Gasthof Schützen\, Aarau
CATEGORIES:Rotary
END:VEVENT
BEGIN:VTIMEZONE
TZID:Europe/Zurich
BEGIN:STANDARD
DTSTART:20191107T183000
TZNAME:CET
TZOFFSETTO:+0100
TZOFFSETFROM:+0100
END:STANDARD
END:VTIMEZONE
END:VCALENDAR
