BEGIN:VCALENDAR
PRODID:-//eluceo/ical//2.0/EN
VERSION:2.0
CALSCALE:GREGORIAN
BEGIN:VEVENT
UID:d560dcdab871937f6a2d57f3c32ff657
DTSTAMP:20260419T201328Z
SUMMARY:Fitnesswahn
DESCRIPTION:Conférencier(s): Roland Bosker\, Fitness Aarau West
URL:https://rcaarau-alpenzeiger.ch/fr/agenda/show/111026
DTSTART;TZID=Europe/Zurich:20200422T114500
DTEND;TZID=Europe/Zurich:20200422T114500
LOCATION:Restaurant Kettenbrücke
CATEGORIES:Rotary
END:VEVENT
BEGIN:VTIMEZONE
TZID:Europe/Zurich
BEGIN:DAYLIGHT
DTSTART:20200422T114500
TZNAME:CEST
TZOFFSETTO:+0200
TZOFFSETFROM:+0200
END:DAYLIGHT
END:VTIMEZONE
END:VCALENDAR
