BEGIN:VCALENDAR
PRODID:-//eluceo/ical//2.0/EN
VERSION:2.0
CALSCALE:GREGORIAN
BEGIN:VEVENT
UID:a071b2ede9ce837c8f9a8d1c0a475842
DTSTAMP:20260419T184541Z
SUMMARY:Plauderlunch
DESCRIPTION:
URL:https://rcaarau-alpenzeiger.ch/fr/agenda/show/111025
DTSTART;TZID=Europe/Zurich:20200415T114500
DTEND;TZID=Europe/Zurich:20200415T114500
LOCATION:Restaurant Kettenbrücke
CATEGORIES:Rotary
END:VEVENT
BEGIN:VTIMEZONE
TZID:Europe/Zurich
BEGIN:DAYLIGHT
DTSTART:20200415T114500
TZNAME:CEST
TZOFFSETTO:+0200
TZOFFSETFROM:+0200
END:DAYLIGHT
END:VTIMEZONE
END:VCALENDAR
