BEGIN:VCALENDAR
PRODID:-//eluceo/ical//2.0/EN
VERSION:2.0
CALSCALE:GREGORIAN
BEGIN:VEVENT
UID:eaf873d778435ee04cf8e8c298b824af
DTSTAMP:20260419T170034Z
SUMMARY:Plauderlunch
DESCRIPTION:
URL:https://rcaarau-alpenzeiger.ch/fr/agenda/show/111024
DTSTART;TZID=Europe/Zurich:20200408T114500
DTEND;TZID=Europe/Zurich:20200408T114500
LOCATION:Restaurant Kettenbrücke
CATEGORIES:Rotary
END:VEVENT
BEGIN:VTIMEZONE
TZID:Europe/Zurich
BEGIN:DAYLIGHT
DTSTART:20200408T114500
TZNAME:CEST
TZOFFSETTO:+0200
TZOFFSETFROM:+0200
END:DAYLIGHT
END:VTIMEZONE
END:VCALENDAR
