BEGIN:VCALENDAR
PRODID:-//eluceo/ical//2.0/EN
VERSION:2.0
CALSCALE:GREGORIAN
BEGIN:VEVENT
UID:d2641a474541f045d625bb7868e902af
DTSTAMP:20260419T133756Z
SUMMARY:Amtsübergabe
DESCRIPTION:Referenten/innen: Matthias Schmid
URL:https://rcaarau-alpenzeiger.ch/de/agenda/show/84641
DTSTART;TZID=Europe/Zurich:20180627T183000
DTEND;TZID=Europe/Zurich:20180627T183000
LOCATION:WEINHAUS am BACH\, Restaurant HIRSCHEN\, ERLINSBACH
CATEGORIES:Rotary
END:VEVENT
BEGIN:VTIMEZONE
TZID:Europe/Zurich
BEGIN:DAYLIGHT
DTSTART:20180627T183000
TZNAME:CEST
TZOFFSETTO:+0200
TZOFFSETFROM:+0200
END:DAYLIGHT
END:VTIMEZONE
END:VCALENDAR
