BEGIN:VCALENDAR
PRODID:-//eluceo/ical//2.0/EN
VERSION:2.0
CALSCALE:GREGORIAN
BEGIN:VEVENT
UID:d85b8cdd63d98e522c0b294ee928f475
DTSTAMP:20260419T133529Z
SUMMARY:Plauderdinner
DESCRIPTION:
URL:https://rcaarau-alpenzeiger.ch/de/agenda/show/81481
DTSTART;TZID=Europe/Zurich:20180207T183000
DTEND;TZID=Europe/Zurich:20180207T183000
LOCATION:Restaurant Kettenbrücke
CATEGORIES:Rotary
END:VEVENT
BEGIN:VTIMEZONE
TZID:Europe/Zurich
BEGIN:STANDARD
DTSTART:20180207T183000
TZNAME:CET
TZOFFSETTO:+0100
TZOFFSETFROM:+0100
END:STANDARD
END:VTIMEZONE
END:VCALENDAR
