BEGIN:VCALENDAR
PRODID:-//eluceo/ical//2.0/EN
VERSION:2.0
CALSCALE:GREGORIAN
BEGIN:VEVENT
UID:fc1f5834042e73525f5c1bac358a9196
DTSTAMP:20260419T131924Z
SUMMARY:Vom Verwaltungsrat zum Gestaltungsrat
DESCRIPTION:Referenten/innen: Ernst Werthmüller\nVR Ferrum AG
URL:https://rcaarau-alpenzeiger.ch/de/agenda/show/79587
DTSTART;TZID=Europe/Zurich:20171122T114500
DTEND;TZID=Europe/Zurich:20171122T114500
LOCATION:Restaurant Kettenbrücke
CATEGORIES:Rotary
END:VEVENT
BEGIN:VTIMEZONE
TZID:Europe/Zurich
BEGIN:STANDARD
DTSTART:20171122T114500
TZNAME:CET
TZOFFSETTO:+0100
TZOFFSETFROM:+0100
END:STANDARD
END:VTIMEZONE
END:VCALENDAR
